BEGIN:VCALENDAR
PRODID:-//github.com/rianjs/ical.net//NONSGML ical.net 4.0//EN
VERSION:2.0
BEGIN:VEVENT
DESCRIPTION:Feierabendtour Richtung Haimhausen\nhttps://touren-termine.adf
 c.de/radveranstaltung/124109-nordostrunde
DTEND:20240417T190000Z
DTSTAMP:20260421T100722Z
DTSTART:20240417T160000Z
LOCATION:Bike & Ride Fahrradparkhaus\, 85221 Dachau
SEQUENCE:0
SUMMARY:Nordostrunde
UID:dd5cda67-3cbd-41b0-9daf-750b6a6e00c5
URL:https://touren-termine.adfc.de/radveranstaltung/124109-nordostrunde
END:VEVENT
END:VCALENDAR
