BEGIN:VCALENDAR
PRODID:-//github.com/rianjs/ical.net//NONSGML ical.net 4.0//EN
VERSION:2.0
BEGIN:VEVENT
DESCRIPTION:Start und Ende am Bahnhof Rotenburg. Schwarzenhasel\, Königswa
 ld\, Bischhausen\, Sontra\, Dens\, Solz\, Bebra\, Rotenburg.\nhttps://tou
 ren-termine.adfc.de/radveranstaltung/149177-zwischen-rotenburg-und-werram
 eissner
DTEND:20250713T150000Z
DTSTAMP:20260421T132045Z
DTSTART:20250713T080000Z
LOCATION:Bahnhof Rotenburg/Fulda\, 36199 Rotenburg an der Fulda
SEQUENCE:0
SUMMARY:Zwischen Rotenburg und Werra-Meißner
UID:19ecdddc-8756-4982-b21d-7abbda3e1a40
URL:https://touren-termine.adfc.de/radveranstaltung/149177-zwischen-rotenb
 urg-und-werrameissner
END:VEVENT
END:VCALENDAR
