BEGIN:VCALENDAR
PRODID:-//github.com/rianjs/ical.net//NONSGML ical.net 4.0//EN
VERSION:2.0
BEGIN:VEVENT
DESCRIPTION:Mittwoch\, 15.4.  / Start 18.oo am Rathaus Gbw\nhttps://touren
 -termine.adfc.de/radveranstaltung/192719-kurztour-30-km-in-die-wedemark
DTEND:20260415T180000Z
DTSTAMP:20260423T182821Z
DTSTART:20260415T160000Z
LOCATION:Fuhrberger Straße 4\, 30938 Burgwedel
SEQUENCE:0
SUMMARY:Kurztour - 30 km in die Wedemark
UID:09e8cf62-86bc-4e25-9ac7-c60acc83c7cf
URL:https://touren-termine.adfc.de/radveranstaltung/192719-kurztour-30-km-
 in-die-wedemark
END:VEVENT
END:VCALENDAR
