BEGIN:VCALENDAR
PRODID:-//github.com/rianjs/ical.net//NONSGML ical.net 4.0//EN
VERSION:2.0
BEGIN:VEVENT
DESCRIPTION:Tour zum Spargelhof Winkelmann\nhttps://touren-termine.adfc.de
 /radveranstaltung/141650-tour-zum-spargelhof-winkelmann
DTEND:20250427T150000Z
DTSTAMP:20260422T204411Z
DTSTART:20250427T090000Z
LOCATION:Vinckestraße 1 ADFC-Büro\, 32423 Minden
SEQUENCE:0
SUMMARY:Tour zum Spargelhof Winkelmann
UID:626eb5f3-37f5-418a-9899-58cc673a703c
URL:https://touren-termine.adfc.de/radveranstaltung/141650-tour-zum-sparge
 lhof-winkelmann
END:VEVENT
END:VCALENDAR
