BEGIN:VCALENDAR
PRODID:-//github.com/rianjs/ical.net//NONSGML ical.net 4.0//EN
VERSION:2.0
BEGIN:VEVENT
DESCRIPTION:Wir radeln eine gemütliche Runde zu verschiedenen Zielen in de
 r Stadt und genießen dabei Hamburg-Flair\, Natur und Adfc-Geselligkeit. \
 nNicht bei Regenwetter.\nhttps://touren-termine.adfc.de/radveranstaltung/
 129435-wandsbeker-feierabendcruise
DTEND:20240808T183000Z
DTSTAMP:20260420T230628Z
DTSTART:20240808T163000Z
LOCATION:Liegewiese im Eichtalpark mit ovaler Skulptur\, 22041 Hamburg\, W
 andsbek
SEQUENCE:0
SUMMARY:Wandsbeker Feierabendcruise
UID:a72d67a0-2225-4d73-ab3e-04f969a6a459
URL:https://touren-termine.adfc.de/radveranstaltung/129435-wandsbeker-feie
 rabendcruise
END:VEVENT
END:VCALENDAR
