BEGIN:VCALENDAR
PRODID:-//github.com/rianjs/ical.net//NONSGML ical.net 4.0//EN
VERSION:2.0
BEGIN:VEVENT
DESCRIPTION:Die Tour führt uns in die verkehrsarmen ländlichen Regionen im
  südlichen Landkreis Dachau\, sowie in den nördlichen und den westlichen 
 Landkreis Fürstenfeldbruck.\nhttps://touren-termine.adfc.de/radveranstalt
 ung/131661-bergkirchen-und-oberbachern-ersatztermin
DTEND:20240518T160000Z
DTSTAMP:20260425T151023Z
DTSTART:20240518T080000Z
LOCATION:Am Markt\, 82205 Gilching
SEQUENCE:0
SUMMARY:Bergkirchen und Oberbachern (Ersatztermin)
UID:3a27c123-d078-4563-a587-126b822b3661
URL:https://touren-termine.adfc.de/radveranstaltung/131661-bergkirchen-und
 -oberbachern-ersatztermin
END:VEVENT
END:VCALENDAR
