BEGIN:VCALENDAR
PRODID:-//github.com/rianjs/ical.net//NONSGML ical.net 4.0//EN
VERSION:2.0
BEGIN:VEVENT
DESCRIPTION:Der Herbst verändert die Natur: die Bäume werden bunt\, die So
 nne scheint und die Tage werden kürzer. Diese Zeit hat viele schöne Seite
 n und diese wollen wir auf einer Radtour entdecken und genießen.\nhttps:/
 /touren-termine.adfc.de/radveranstaltung/109719-kleine-herbstrunde
DTEND:20231111T123000Z
DTSTAMP:20260424T193603Z
DTSTART:20231111T090000Z
LOCATION:Bahnhofsplatz Stadtbahnhof\, 58638 Iserlohn
SEQUENCE:0
SUMMARY:Kleine Herbstrunde
UID:cefcef93-ae62-425b-9be2-b023709ccc5e
URL:https://touren-termine.adfc.de/radveranstaltung/109719-kleine-herbstru
 nde
END:VEVENT
END:VCALENDAR
