BEGIN:VCALENDAR
PRODID:-//github.com/rianjs/ical.net//NONSGML ical.net 4.0//EN
VERSION:2.0
BEGIN:VEVENT
DESCRIPTION:Von Wolfratshausen aus lassen wir`s Richtung Schäftlarn rollen
 . Nach einiger kräftigenden Brotzeit dort geht`s dann erst mal steil den 
 Berg hinauf….. und dann locker Richtung Dachau\nhttps://touren-termine.ad
 fc.de/radveranstaltung/161273-wolfratshausen-dachau
DTEND:20250706T140000Z
DTSTAMP:20260421T100818Z
DTSTART:20250706T080000Z
LOCATION:Bike & Ride Fahrradparkhaus\, 85221 Dachau
SEQUENCE:0
SUMMARY:Wolfratshausen - Dachau
UID:34829a47-b10f-4774-a9e9-fe063c1a3c15
URL:https://touren-termine.adfc.de/radveranstaltung/161273-wolfratshausen-
 dachau
END:VEVENT
END:VCALENDAR
