BEGIN:VCALENDAR
PRODID:-//github.com/rianjs/ical.net//NONSGML ical.net 4.0//EN
VERSION:2.0
BEGIN:VEVENT
DESCRIPTION:Dieses Online Event befähight Kommunen in Baden-Württemberg da
 zu\, den Weg zur flächenneutralen Mobilitätswende zu gehen.\nhttps://tour
 en-termine.adfc.de/radveranstaltung/105695-flachenneutrale-mobilitatswend
 e-in-den-kommunen
DTEND:20230920T110000Z
DTSTAMP:20260424T115827Z
DTSTART:20230920T080000Z
LOCATION:Online Event\, 70197 Stuttgart
SEQUENCE:0
SUMMARY:Flächenneutrale Mobilitätswende in den Kommunen
UID:e0ed3527-5bef-4e0b-a777-0e5057f57269
URL:https://touren-termine.adfc.de/radveranstaltung/105695-flachenneutrale
 -mobilitatswende-in-den-kommunen
END:VEVENT
END:VCALENDAR
