BEGIN:VCALENDAR
PRODID:-//github.com/rianjs/ical.net//NONSGML ical.net 4.0//EN
VERSION:2.0
BEGIN:VEVENT
DESCRIPTION:Wir starten am Bahnhof in Bestensee. Über die Schleuse an der 
 Hermsdorfer Mühle\, die Schauener Seenkette und Wolzig erreichen wir am N
 achmittag den Bahnhof Königs Wusterhausen.\nhttps://touren-termine.adfc.d
 e/radveranstaltung/160838-rundfahrt-durch-den-naturpark-dahmeheideseen
DTEND:20250412T141500Z
DTSTAMP:20260421T114554Z
DTSTART:20250412T074500Z
LOCATION:Bahnhof Bestensee\, Fahrradabstellplatz Westseite\, 15741 Dahme-S
 preewald
SEQUENCE:0
SUMMARY:Rundfahrt durch den Naturpark Dahme-Heideseen
UID:a9f7b090-0a53-4d2c-9ca4-9dbf6144061b
URL:https://touren-termine.adfc.de/radveranstaltung/160838-rundfahrt-durch
 -den-naturpark-dahmeheideseen
END:VEVENT
END:VCALENDAR
