BEGIN:VCALENDAR
PRODID:-//github.com/rianjs/ical.net//NONSGML ical.net 4.0//EN
VERSION:2.0
BEGIN:VEVENT
DESCRIPTION:Wir tauschen uns über Radinfrastruktur aus und diskutieren akt
 uelle Entwicklungen und Herausforderungen.\nGemeinsam überlegen wir\, wie
  wir die Bedingungen für Radfahrende im Cuxland verbessern können.\nhttps
 ://touren-termine.adfc.de/radveranstaltung/186403-kaffeestunde
DTEND:20260914T143000Z
DTSTAMP:20260421T022825Z
DTSTART:20260914T130000Z
LOCATION:Bürgerbahnhof\, Am Bahnhof 1\, 27472 Cuxhaven
SEQUENCE:0
SUMMARY:Kaffeestunde
UID:cacedefb-3d18-4a49-b770-57a4a1dcb7b0
URL:https://touren-termine.adfc.de/radveranstaltung/186403-kaffeestunde
END:VEVENT
END:VCALENDAR
