BEGIN:VCALENDAR
PRODID:-//github.com/rianjs/ical.net//NONSGML ical.net 4.0//EN
VERSION:2.0
BEGIN:VEVENT
DESCRIPTION:Öffentlicher Stammtisch des Kreisverbandes Kempten-Oberallgäu\
 nhttps://touren-termine.adfc.de/radveranstaltung/184640-radlerstammtisch-
 in-martinszell
DTEND:20261015T200000Z
DTSTAMP:20260424T152501Z
DTSTART:20261015T180000Z
LOCATION: IG OMa\, Oberdorfer Bahnhofstraße 7\, 87448 Landkreis Oberallgäu
SEQUENCE:0
SUMMARY:Radlerstammtisch in Martinszell
UID:5a980a44-a6b3-4b70-af75-3d481ffd4c01
URL:https://touren-termine.adfc.de/radveranstaltung/184640-radlerstammtisc
 h-in-martinszell
END:VEVENT
END:VCALENDAR
