BEGIN:VCALENDAR
PRODID:-//github.com/rianjs/ical.net//NONSGML ical.net 4.0//EN
VERSION:2.0
BEGIN:VEVENT
DESCRIPTION:Diskussionsrunde mit den demokratischen Bundestagskandidat*inn
 en aus dem Wahlkreis Hamm-Unna II„Für einen sozialen Zusammenhalt – Wie n
 achhaltig kann Deutschland werden?“\nhttps://touren-termine.adfc.de/radve
 ranstaltung/152254-wie-nachhaltig-kann-deutschland-werden
DTEND:20250121T203000Z
DTSTAMP:20260422T000146Z
DTSTART:20250121T180000Z
LOCATION:Platz der Deutschen Einheit 1\, 59065 Hamm
SEQUENCE:0
SUMMARY:Wie nachhaltig kann Deutschland werden?
UID:b7dc7bb0-eb09-4f6e-a354-4556024fc2fc
URL:https://touren-termine.adfc.de/radveranstaltung/152254-wie-nachhaltig-
 kann-deutschland-werden
END:VEVENT
END:VCALENDAR
