BEGIN:VCALENDAR
PRODID:-//github.com/rianjs/ical.net//NONSGML ical.net 4.0//EN
VERSION:2.0
BEGIN:VEVENT
DESCRIPTION:Im Rahmen der Aktion STADTRADELN 2023 laden die Senatsverwaltu
 ng für UMVK zusammen mit dem rbb 88.8 und dem ADFC Berlin zu einer geführ
 ten Radtour mit Christine Volpert ein.\nhttps://touren-termine.adfc.de/ra
 dveranstaltung/102115-stadtradelnradtour-mit-tine-volpert
DTEND:20230611T120000Z
DTSTAMP:20260424T173317Z
DTSTART:20230611T080000Z
LOCATION:S-Bhf. Wilhelmsruh\, 13407 Berlin
SEQUENCE:0
SUMMARY:STADTRADELN-Radtour mit Tine Volpert
UID:fcdc9267-7d91-4f72-9f0f-ede3de59fc93
URL:https://touren-termine.adfc.de/radveranstaltung/102115-stadtradelnradt
 our-mit-tine-volpert
END:VEVENT
END:VCALENDAR
