BEGIN:VCALENDAR
PRODID:-//github.com/rianjs/ical.net//NONSGML ical.net 4.0//EN
VERSION:2.0
BEGIN:VEVENT
DESCRIPTION:Unser monatliches Ortsgruppentreffen\, diesmal im Ristorante V
 ecchia Fucina\, auch als "Alte Schmiede" bekannt. Gäste sind willkommen.\
 nhttps://touren-termine.adfc.de/radveranstaltung/198106-treffen-der-adfco
 rtsgruppe-panketal
DTEND:20260416T190000Z
DTSTAMP:20260420T233621Z
DTSTART:20260416T170000Z
LOCATION:Alt Zepernick 21\, 16341 Panketal
SEQUENCE:0
SUMMARY:Treffen der ADFC-Ortsgruppe Panketal
UID:9b737a75-9c0a-4848-be3f-37f6d99a6a82
URL:https://touren-termine.adfc.de/radveranstaltung/198106-treffen-der-adf
 cortsgruppe-panketal
END:VEVENT
END:VCALENDAR
