BEGIN:VCALENDAR
PRODID:-//github.com/rianjs/ical.net//NONSGML ical.net 4.0//EN
VERSION:2.0
BEGIN:VEVENT
DESCRIPTION:Treffen für Neumitglieder und Interessierte\nhttps://touren-te
 rmine.adfc.de/radveranstaltung/128203-bike-connect-adfc-ladt-ein
DTEND:20240410T200000Z
DTSTAMP:20260423T144804Z
DTSTART:20240410T170000Z
LOCATION:ADFC Köln\, Mauritiussteinweg 11\, 50676 Köln
SEQUENCE:0
SUMMARY:Bike & Connect: ADFC lädt ein
UID:1b613154-d4fb-45fa-83ba-2f741c02799e
URL:https://touren-termine.adfc.de/radveranstaltung/128203-bike-connect-ad
 fc-ladt-ein
END:VEVENT
END:VCALENDAR
