BEGIN:VCALENDAR
PRODID:-//github.com/rianjs/ical.net//NONSGML ical.net 4.0//EN
VERSION:2.0
BEGIN:VEVENT
DESCRIPTION:Über Mariaort und Pielenhofen entlang der Naab. Über den Jura 
 nach Laaber und weiter über Deuerling und Schönhofen auf herrlichem Radwe
 g entlang der schwarzen Laber. Mit steilem Berganstieg.\nhttps://touren-t
 ermine.adfc.de/radveranstaltung/144656-flusslandschaften-naab-und-schwarz
 e-laber
DTEND:20250615T150000Z
DTSTAMP:20260420T082750Z
DTSTART:20250615T070000Z
LOCATION:ADFC Selbsthilfewerkstatt\, Weinweg 2\, 93049 Regensburg
SEQUENCE:0
SUMMARY:Flusslandschaften - Naab und schwarze Laber
UID:08a18634-5bdd-40d0-bc4c-611e344054a2
URL:https://touren-termine.adfc.de/radveranstaltung/144656-flusslandschaft
 en-naab-und-schwarze-laber
END:VEVENT
END:VCALENDAR
