BEGIN:VCALENDAR
PRODID:-//github.com/rianjs/ical.net//NONSGML ical.net 4.0//EN
VERSION:2.0
BEGIN:VEVENT
DESCRIPTION:Jeden 3. Freitag im Monat\, Treffpunkt immer 18:00 Uhr\, immer
  am Marktplatz Rheydt\, ca. 1\,5 h\nhttps://touren-termine.adfc.de/radver
 anstaltung/85154-adfcabendradtour
DTEND:20230818T173000Z
DTSTAMP:20260423T134109Z
DTSTART:20230818T160000Z
LOCATION:Hauptstraße\, 41236 Mönchengladbach
SEQUENCE:0
SUMMARY:ADFC-AbendRadTour
UID:e44a35d0-67b1-4762-a2e6-7aad6b575e6c
URL:https://touren-termine.adfc.de/radveranstaltung/85154-adfcabendradtour
END:VEVENT
END:VCALENDAR
