BEGIN:VCALENDAR
PRODID:-//github.com/rianjs/ical.net//NONSGML ical.net 4.0//EN
VERSION:2.0
BEGIN:VEVENT
DESCRIPTION:Kunst entlang der Berkel / Radtour zu Kunstobjekten entlang de
 s Flusses BERKEL / Nähere Infos folgen unter der Seite:\nhttps://touren-t
 ermine.adfc.de / Kooperation mit der 3. Berkelkompanie\nhttps://touren-te
 rmine.adfc.de/radveranstaltung/180245-berkel-kunst
DTEND:20260517T160000Z
DTSTAMP:20260419T231145Z
DTSTART:20260517T080000Z
LOCATION:Osterwicker Straße\, Parkplatz WBK\, 48653 Coesfeld
SEQUENCE:0
SUMMARY:Berkel Kunst
UID:39a68da5-517e-4ba8-9800-608e1e455ae9
URL:https://touren-termine.adfc.de/radveranstaltung/180245-berkel-kunst
END:VEVENT
END:VCALENDAR
