BEGIN:VCALENDAR
PRODID:-//github.com/rianjs/ical.net//NONSGML ical.net 4.0//EN
VERSION:2.0
BEGIN:VEVENT
DESCRIPTION:Frühstück bei Mariandl -erstmals an einem Freitag!\nhttps://to
 uren-termine.adfc.de/radveranstaltung/124177-fruhstuck-bei-mariandl
DTEND:20240705T133000Z
DTSTAMP:20260419T143940Z
DTSTART:20240705T073000Z
LOCATION:Bike & Ride Fahrradparkhaus\, 85221 Dachau
SEQUENCE:0
SUMMARY:Frühstück bei Mariandl
UID:d2a2a531-ffa8-464a-8578-a0221ac9174c
URL:https://touren-termine.adfc.de/radveranstaltung/124177-fruhstuck-bei-m
 ariandl
END:VEVENT
END:VCALENDAR
