BEGIN:VCALENDAR
PRODID:-//github.com/rianjs/ical.net//NONSGML ical.net 4.0//EN
VERSION:2.0
BEGIN:VEVENT
DESCRIPTION:Rauf aufs Rad für eine Spritztour in die Umgebung von Gauting!
 \nWöchentlich wechselnd naturkundliche Touren und Cappuccino-Touren.\nhtt
 ps://touren-termine.adfc.de/radveranstaltung/165236-wochentliche-nachmitt
 agstour-in-gauting
DTEND:20250513T140000Z
DTSTAMP:20260425T151029Z
DTSTART:20250513T120000Z
LOCATION:Rathaus\, Bahnhofstraße 7\, 82131 Gauting
SEQUENCE:0
SUMMARY:Wöchentliche Nachmittagstour in Gauting
UID:77b6acc5-b28d-4c27-b536-56aacc01bba6
URL:https://touren-termine.adfc.de/radveranstaltung/165236-wochentliche-na
 chmittagstour-in-gauting
END:VEVENT
END:VCALENDAR
