BEGIN:VCALENDAR
PRODID:-//github.com/rianjs/ical.net//NONSGML ical.net 4.0//EN
VERSION:2.0
BEGIN:VEVENT
DESCRIPTION:FMK 13_km_Bockwindmuehle Wettmar\nhttps://touren-termine.adfc.
 de/radveranstaltung/169684-familientour-13-km
DTEND:20250803T160000Z
DTSTAMP:20260423T105338Z
DTSTART:20250803T130000Z
LOCATION:Fuhrberger Straße 4\, 30938 Burgwedel
SEQUENCE:0
SUMMARY:Familien-Tour 13 km
UID:a82b5ff3-e56e-4c40-a09d-c383d34c9c44
URL:https://touren-termine.adfc.de/radveranstaltung/169684-familientour-13
 -km
END:VEVENT
END:VCALENDAR
