BEGIN:VCALENDAR
PRODID:-//github.com/rianjs/ical.net//NONSGML ical.net 4.0//EN
VERSION:2.0
BEGIN:VEVENT
DESCRIPTION:Einmal (fast) rum um den Starnberger See und dann eine kräftgi
 e\, wenn auch fischige Brotzeit!\nhttps://touren-termine.adfc.de/radveran
 staltung/196964-fischermeister-gastl
DTEND:20260705T140000Z
DTSTAMP:20260421T101917Z
DTSTART:20260705T064000Z
LOCATION:Bike & Ride Fahrradparkhaus\, 85221 Dachau
SEQUENCE:0
SUMMARY:Fischermeister Gastl
UID:87a4f5de-52ca-499b-8ff4-1591a3a5e983
URL:https://touren-termine.adfc.de/radveranstaltung/196964-fischermeister-
 gastl
END:VEVENT
END:VCALENDAR
