BEGIN:VCALENDAR
PRODID:-//github.com/rianjs/ical.net//NONSGML ical.net 4.0//EN
VERSION:2.0
BEGIN:VEVENT
DESCRIPTION:Jeden Montag findet morgens eine Radtour statt.\nhttps://toure
 n-termine.adfc.de/radveranstaltung/155782-montag-morgen-tour
DTEND:20250210T110000Z
DTSTAMP:20260423T201552Z
DTSTART:20250210T090000Z
LOCATION:In der Ahe 29\, 27356 Rotenburg
SEQUENCE:0
SUMMARY:Montag Morgen Tour
UID:f839fe3d-e5d3-47c8-94b9-27a26c627e86
URL:https://touren-termine.adfc.de/radveranstaltung/155782-montag-morgen-t
 our
END:VEVENT
END:VCALENDAR
