BEGIN:VCALENDAR
PRODID:-//github.com/rianjs/ical.net//NONSGML ical.net 4.0//EN
VERSION:2.0
BEGIN:VEVENT
DESCRIPTION:Wir bieten verschiedene Strecken zwischen 25 km und 35 km Läng
 e mit einer Fahrtdauer von ca. 2 Stunden an.\nhttps://touren-termine.adfc
 .de/radveranstaltung/89575-feierabendtour-parkplatz-donauarena
DTEND:20230920T180000Z
DTSTAMP:20260420T083206Z
DTSTART:20230920T160000Z
LOCATION:Parkplatz Donau-Arena\, Walhalla-Allee\, 93055 Regensburg
SEQUENCE:0
SUMMARY:Feierabendtour: Parkplatz Donau-Arena
UID:afff818f-6d11-42b7-abc6-eca1164665cc
URL:https://touren-termine.adfc.de/radveranstaltung/89575-feierabendtour-p
 arkplatz-donauarena
END:VEVENT
END:VCALENDAR
