BEGIN:VCALENDAR
PRODID:-//github.com/rianjs/ical.net//NONSGML ical.net 4.0//EN
VERSION:2.0
BEGIN:VEVENT
DESCRIPTION:Auf unserer Rundtour zum Schloß Liebenberg kennt unser langjäh
 riger Landtagsabgeordneter Herr Lüttman interessante Hintergrundinformati
 onen.\nhttps://touren-termine.adfc.de/radveranstaltung/168743-mit-bjorn-l
 uttmann-mdl-nach-liebenberg
DTEND:20250802T140000Z
DTSTAMP:20260425T200843Z
DTSTART:20250802T080000Z
LOCATION:Schloßplatz\, 16515 Oranienburg
SEQUENCE:0
SUMMARY:Mit Björn Lüttmann (MdL) nach Liebenberg
UID:36954380-fe0b-488b-a194-3e283149cecf
URL:https://touren-termine.adfc.de/radveranstaltung/168743-mit-bjorn-luttm
 ann-mdl-nach-liebenberg
END:VEVENT
END:VCALENDAR
