BEGIN:VCALENDAR
PRODID:-//github.com/rianjs/ical.net//NONSGML ical.net 4.0//EN
VERSION:2.0
BEGIN:VEVENT
DESCRIPTION:Wofür braucht die Stadt Köln einen 20 Km langen Randkanal\, de
 r in Köln-Worringen in den Rhein mündet?\nhttps://touren-termine.adfc.de/
 radveranstaltung/188237-am-kolner-randkanal-entlang
DTEND:20260228T170000Z
DTSTAMP:20260423T151724Z
DTSTART:20260228T090000Z
LOCATION:Rudolfplatz 1\, 50674 Köln
SEQUENCE:0
SUMMARY:Am Kölner Randkanal entlang
UID:27a3725b-173d-400f-8f06-0c663262c118
URL:https://touren-termine.adfc.de/radveranstaltung/188237-am-kolner-randk
 anal-entlang
END:VEVENT
END:VCALENDAR
