BEGIN:VCALENDAR
PRODID:-//github.com/rianjs/ical.net//NONSGML ical.net 4.0//EN
VERSION:2.0
BEGIN:VEVENT
DESCRIPTION:Jeden Montag findet morgens eine Radtour statt.\nhttps://toure
 n-termine.adfc.de/radveranstaltung/112659-montag-morgen-tour
DTEND:20231218T110000Z
DTSTAMP:20260423T201046Z
DTSTART:20231218T090000Z
LOCATION:In der Ahe 29\, 27356 Rotenburg
SEQUENCE:0
SUMMARY:Montag Morgen Tour
UID:e7cbdf89-f22f-4320-978a-8a48e01ef841
URL:https://touren-termine.adfc.de/radveranstaltung/112659-montag-morgen-t
 our
END:VEVENT
END:VCALENDAR
