BEGIN:VCALENDAR
PRODID:-//github.com/rianjs/ical.net//NONSGML ical.net 4.0//EN
VERSION:2.0
BEGIN:VEVENT
DESCRIPTION:Die Bezirksgruppe Altona setzt sich für den Radverkehr in alle
 n Straßen und Stadtteilen von Rissen bis Sternschanze ein.\nhttps://toure
 n-termine.adfc.de/radveranstaltung/132563-bezirksgruppe-altona
DTEND:20250716T190000Z
DTSTAMP:20260420T231621Z
DTSTART:20250716T170000Z
LOCATION:Flavour Court im Othmarscher Tennis-Club\, 22763 Hamburg\, Othmar
 schen
SEQUENCE:0
SUMMARY:Bezirksgruppe Altona
UID:7248bfe1-68a7-46f1-9a38-ce52b0deecbd
URL:https://touren-termine.adfc.de/radveranstaltung/132563-bezirksgruppe-a
 ltona
END:VEVENT
END:VCALENDAR
