BEGIN:VCALENDAR
PRODID:-//github.com/rianjs/ical.net//NONSGML ical.net 4.0//EN
VERSION:2.0
BEGIN:VEVENT
DESCRIPTION:Monatliches Arbeitstreffen der Radverkehrsgruppe des ADFC Köln
  am letzten Mittwoch des Monats\nhttps://touren-termine.adfc.de/radverans
 taltung/198889-radverkehrsgruppe-adfc-koln
DTEND:20260729T183000Z
DTSTAMP:20260423T080127Z
DTSTART:20260729T170000Z
LOCATION:ADFC Köln\, Mauritiussteinweg 11\, 50676 Köln
SEQUENCE:0
SUMMARY:Radverkehrsgruppe ADFC Köln
UID:f8eff4ed-39ac-472c-a52d-e6911057c8c2
URL:https://touren-termine.adfc.de/radveranstaltung/198889-radverkehrsgrup
 pe-adfc-koln
END:VEVENT
END:VCALENDAR
