BEGIN:VCALENDAR
PRODID:-//github.com/rianjs/ical.net//NONSGML ical.net 4.0//EN
VERSION:2.0
BEGIN:VEVENT
DESCRIPTION:Wir sind an allen Messetagen mit einem Infostand auf der Fahrr
 admesse vertreten.\nhttps://touren-termine.adfc.de/radveranstaltung/18987
 5-der-adfc-essen-auf-der-fahrradmesse-essen
DTEND:20260301T170000Z
DTSTAMP:20260421T102410Z
DTSTART:20260301T090000Z
LOCATION:Messe Essen\, 45131 Essen
SEQUENCE:0
SUMMARY:Der ADFC Essen auf der Fahrradmesse Essen
UID:b4a36bb5-dab8-4bbc-8003-e26a8ef29317
URL:https://touren-termine.adfc.de/radveranstaltung/189875-der-adfc-essen-
 auf-der-fahrradmesse-essen
END:VEVENT
END:VCALENDAR
