BEGIN:VCALENDAR
PRODID:-//github.com/rianjs/ical.net//NONSGML ical.net 4.0//EN
VERSION:2.0
BEGIN:VEVENT
DESCRIPTION:Der Volksentscheid Berlin Werbefrei setzt sich gegen übergroße
  und bewegte Werbung ein - das sorgt für weniger Ablenkung und mehr Verke
 hrssicherheit. Im ADFC-RadForum sprechen wir mit der Initiative.\nhttps:/
 /touren-termine.adfc.de/radveranstaltung/184726-adfcradforum-volksentsche
 id-berlin-werbefrei
DTEND:20260318T190000Z
DTSTAMP:20260419T130635Z
DTSTART:20260318T180000Z
LOCATION:Möckernstraße 47\, 10963 Berlin
SEQUENCE:0
SUMMARY:ADFC-RadForum - Volksentscheid Berlin Werbefrei
UID:1ea18b32-aa50-406d-9414-7db5c98b7e02
URL:https://touren-termine.adfc.de/radveranstaltung/184726-adfcradforum-vo
 lksentscheid-berlin-werbefrei
END:VEVENT
END:VCALENDAR
