BEGIN:VCALENDAR
PRODID:-//github.com/rianjs/ical.net//NONSGML ical.net 4.0//EN
VERSION:2.0
BEGIN:VEVENT
DESCRIPTION:Die Blütezeit ist recht kurz\, aber Form und Farbe ist prächti
 g anzuschauen.\nhttps://touren-termine.adfc.de/radveranstaltung/161236-di
 e-tulpenmagnolie-in-kolndeutz-rheinpark
DTEND:20250408T150000Z
DTSTAMP:20260423T153010Z
DTSTART:20250408T103000Z
LOCATION:Peter-Bürling-Platz\, Refrath\, 51465 Bergisch Gladbach
SEQUENCE:0
SUMMARY:Die Tulpen-Magnolie in Köln-Deutz (Rheinpark)
UID:1fe1ff43-b052-4a67-9151-5658d821a757
URL:https://touren-termine.adfc.de/radveranstaltung/161236-die-tulpenmagno
 lie-in-kolndeutz-rheinpark
END:VEVENT
END:VCALENDAR
