BEGIN:VCALENDAR
PRODID:-//github.com/rianjs/ical.net//NONSGML ical.net 4.0//EN
VERSION:2.0
BEGIN:VEVENT
DESCRIPTION:Berliner Fahrradwoche: Zum Dörferblick in Rudow\, einmal um de
 n Flughafen BER und zurück über Schloss Diedersdorf\nhttps://touren-termi
 ne.adfc.de/radveranstaltung/112352-berliner-fahrradwoche-dorferblick-und-
 flughafen
DTEND:20240728T150000Z
DTSTAMP:20260425T134052Z
DTSTART:20240728T080000Z
LOCATION:Askanischer Platz\, Ruine Anhalter Bahnhof\, 10963 Berlin
SEQUENCE:0
SUMMARY:Berliner Fahrradwoche: Dörferblick und Flughafen
UID:1763b300-e613-439a-b80c-326cac461fc0
URL:https://touren-termine.adfc.de/radveranstaltung/112352-berliner-fahrra
 dwoche-dorferblick-und-flughafen
END:VEVENT
END:VCALENDAR
