BEGIN:VCALENDAR
PRODID:-//github.com/rianjs/ical.net//NONSGML ical.net 4.0//EN
VERSION:2.0
BEGIN:VEVENT
DESCRIPTION:Bei der Codierung von Fahrrädern werden Angaben über die Besit
 zer*in verschlüsselt am Fahrrad angebracht.\nEine Anmeldung ist unbedingt
  erforderlich\nhttps://touren-termine.adfc.de/radveranstaltung/168018-fah
 rradcodierung-2808-1700-bis-1730-uhr
DTEND:20250828T153000Z
DTSTAMP:20260420T231936Z
DTSTART:20250828T150000Z
LOCATION:Koppel 34 - 36\, 20099 Hamburg\, St. Georg
SEQUENCE:0
SUMMARY:Fahrrad-Codierung (28.08. - 17:00 bis 17:30 Uhr)
UID:0faa6474-82a5-43c8-a4a2-04a523db7c8c
URL:https://touren-termine.adfc.de/radveranstaltung/168018-fahrradcodierun
 g-2808-1700-bis-1730-uhr
END:VEVENT
END:VCALENDAR
