BEGIN:VCALENDAR
PRODID:-//github.com/rianjs/ical.net//NONSGML ical.net 4.0//EN
VERSION:2.0
BEGIN:VEVENT
DESCRIPTION:Zum Tagesausklang radeln wir für zwei bis drei Stunden einschl
 ießlich Einkehr in die nähere Umgebung von Oranienburg.\nhttps://touren-t
 ermine.adfc.de/radveranstaltung/161453-oranienburger-feierabendrundtour
DTEND:20250604T190000Z
DTSTAMP:20260425T231924Z
DTSTART:20250604T160000Z
LOCATION:Bahnhof\, 16515 Oranienburg
SEQUENCE:0
SUMMARY:Oranienburger Feierabend-Rundtour
UID:444e626e-703c-4abd-af09-21956ff6a8ab
URL:https://touren-termine.adfc.de/radveranstaltung/161453-oranienburger-f
 eierabendrundtour
END:VEVENT
END:VCALENDAR
