BEGIN:VCALENDAR
PRODID:-//github.com/rianjs/ical.net//NONSGML ical.net 4.0//EN
VERSION:2.0
BEGIN:VEVENT
DESCRIPTION:Auf Rad- und Waldwegen mit dem Pedelec zum Aussichtspunkt Isch
 eroth und zum Wallfahrtsort Dörnschlade.\nhttps://touren-termine.adfc.de/
 radveranstaltung/122225-pedelecfeierabendtour-ischeroth-u-dornschlade
DTEND:20240905T180000Z
DTSTAMP:20260422T234652Z
DTSTART:20240905T160000Z
LOCATION:Marburgerstraße\, Roter Platz\, 57223 Kreuztal
SEQUENCE:0
SUMMARY:Pedelec-Feierabendtour Ischeroth u. Dörnschlade
UID:d8e56769-40a1-40e4-bc8e-218fc5f08d66
URL:https://touren-termine.adfc.de/radveranstaltung/122225-pedelecfeierabe
 ndtour-ischeroth-u-dornschlade
END:VEVENT
END:VCALENDAR
