BEGIN:VCALENDAR
PRODID:-//github.com/rianjs/ical.net//NONSGML ical.net 4.0//EN
VERSION:2.0
BEGIN:VEVENT
DESCRIPTION:Die Stadtteilgruppe Lichtenberg trifft sich diesmal ausnahmswe
 ise am 2. Donnerstag im Monat.\nFahrradinteressierte aus Lichtenberg\, di
 e mitmachen möchten\, sind herzlich willkommen.\nhttps://touren-termine.a
 dfc.de/radveranstaltung/139021-treffen-der-stadtteilgruppe-lichtenberg
DTEND:20241010T190000Z
DTSTAMP:20260420T120402Z
DTSTART:20241010T170000Z
LOCATION:Interkultureller Garten Lichtenberg\, Liebenwalder Straße 12 - 16
 \, 13055 Berlin
SEQUENCE:0
SUMMARY:Treffen der Stadtteilgruppe Lichtenberg
UID:f82b5f2e-6713-4cf6-a911-5aa0e06f528a
URL:https://touren-termine.adfc.de/radveranstaltung/139021-treffen-der-sta
 dtteilgruppe-lichtenberg
END:VEVENT
END:VCALENDAR
