BEGIN:VCALENDAR
PRODID:-//github.com/rianjs/ical.net//NONSGML ical.net 4.0//EN
VERSION:2.0
BEGIN:VEVENT
DESCRIPTION:An Schwanheim vorbei geht es an der Nidda entlang nach Praunhe
 im. Nach der Einkehr im Ginnheimer Wirtshaus fahren wir im Zentrum von Fr
 ankfurt weiter nach Dreieich. Anmeldung notwendig.\nhttps://touren-termin
 e.adfc.de/radveranstaltung/122786-nach-frankfurtpraunheim-zum-ginnheimer-
 wirtshaus
DTEND:20240622T150000Z
DTSTAMP:20260423T192457Z
DTSTART:20240622T080000Z
LOCATION:Lindenplatz\, 63303 Sprendlingen
SEQUENCE:0
SUMMARY:Nach Frankfurt-Praunheim zum Ginnheimer Wirtshaus
UID:1c3ebd5e-d578-4ffd-bbea-73bcee810e47
URL:https://touren-termine.adfc.de/radveranstaltung/122786-nach-frankfurtp
 raunheim-zum-ginnheimer-wirtshaus
END:VEVENT
END:VCALENDAR
