BEGIN:VCALENDAR
PRODID:-//github.com/rianjs/ical.net//NONSGML ical.net 4.0//EN
VERSION:2.0
BEGIN:VEVENT
DESCRIPTION:Kidical Mass ist eine kinderfreundliche Fahrraddemo\, bei der 
 alle Menschen gemeinsam für sichere\, kinder- und fahrradgerechte Straßen
  demonstrieren. Abfahrt gegen 11:00 Uhr\nhttps://touren-termine.adfc.de/r
 adveranstaltung/178627-kidical-mass-fahrraddemo
DTEND:20260531T110000Z
DTSTAMP:20260421T151624Z
DTSTART:20260531T083000Z
LOCATION:Opernplatz\, 30159 Hannover
SEQUENCE:0
SUMMARY:Kidical Mass - Fahrraddemo
UID:ab9adef3-9889-4493-9552-19aa2fc66c5f
URL:https://touren-termine.adfc.de/radveranstaltung/178627-kidical-mass-fa
 hrraddemo
END:VEVENT
END:VCALENDAR
