BEGIN:VCALENDAR
PRODID:-//github.com/rianjs/ical.net//NONSGML ical.net 4.0//EN
VERSION:2.0
BEGIN:VEVENT
DESCRIPTION:Mobile Fahrradwerkstatt zum selbst schrauben: Jeden 3. Samstag
  im Monat 14 – 17 Uhr auf dem Quartiersplatz in Langenhagen-Wiesenau\nhtt
 ps://touren-termine.adfc.de/radveranstaltung/158767-extern-quartiersschra
 uber-wiesenau
DTEND:20250920T150000Z
DTSTAMP:20260424T173350Z
DTSTART:20250920T120000Z
LOCATION:Quartierstreff: Freiligrathstraße 11\, 30851 Langenhagen
SEQUENCE:0
SUMMARY:Extern: "„Quartiersschrauber Wiesenau“ⓇⓈ
UID:d6b61888-b4cc-404d-be34-c1de5571594b
URL:https://touren-termine.adfc.de/radveranstaltung/158767-extern-quartier
 sschrauber-wiesenau
END:VEVENT
END:VCALENDAR
