BEGIN:VCALENDAR
PRODID:-//github.com/rianjs/ical.net//NONSGML ical.net 4.0//EN
VERSION:2.0
BEGIN:VEVENT
DESCRIPTION:Entspannte 50-km Radtour mit ADFC -TourGuide Dieter Aulich zum
  Hofladen des Milchhofes in Unna-Mühlhausen\nhttps://touren-termine.adfc.
 de/radveranstaltung/167834-restart-zum-milchhof-nach-unnamuhlhausen
DTEND:20250621T130000Z
DTSTAMP:20260424T193602Z
DTSTART:20250621T080000Z
LOCATION:Iserlohn-Barendorf\, 58636 Iserlohn
SEQUENCE:0
SUMMARY:Restart: Zum Milchhof nach Unna-Mühlhausen
UID:5d4dd40f-e2ee-4872-aa9e-35940bc8fa2d
URL:https://touren-termine.adfc.de/radveranstaltung/167834-restart-zum-mil
 chhof-nach-unnamuhlhausen
END:VEVENT
END:VCALENDAR
