BEGIN:VCALENDAR
PRODID:-//github.com/rianjs/ical.net//NONSGML ical.net 4.0//EN
VERSION:2.0
BEGIN:VEVENT
DESCRIPTION:Die Bezirksgruppe Altona setzt sich für den Radverkehr in alle
 n Straßen und Stadtteilen von Rissen bis Sternschanze ein.\nhttps://toure
 n-termine.adfc.de/radveranstaltung/132577-bezirksgruppe-altona
DTEND:20260909T190000Z
DTSTAMP:20260420T232052Z
DTSTART:20260909T170000Z
LOCATION:Flavour Court im Othmarscher Tennis-Club\, 22763 Hamburg\, Othmar
 schen
SEQUENCE:0
SUMMARY:Bezirksgruppe Altona
UID:628fcb20-d028-473b-8ccb-7713efdc768e
URL:https://touren-termine.adfc.de/radveranstaltung/132577-bezirksgruppe-a
 ltona
END:VEVENT
END:VCALENDAR
