BEGIN:VCALENDAR
PRODID:-//github.com/rianjs/ical.net//NONSGML ical.net 4.0//EN
VERSION:2.0
BEGIN:VEVENT
DESCRIPTION:Mit Rad und einheimischem Führer durch die Idyllischen Auen vo
 n Donau und Isar\nhttps://touren-termine.adfc.de/radveranstaltung/92066-g
 enusstour-in-die-idyllischen-auen-der-isarmundung
DTEND:20230610T160000Z
DTSTAMP:20260424T173204Z
DTSTART:20230610T054500Z
LOCATION:Bahnhofsvorplatz Regensburg Hauptbahnhof\, 93047 Regensburg
SEQUENCE:0
SUMMARY:Genusstour in die idyllischen Auen der Isarmündung
UID:fc3a1aec-f423-4717-a424-902b578f7869
URL:https://touren-termine.adfc.de/radveranstaltung/92066-genusstour-in-di
 e-idyllischen-auen-der-isarmundung
END:VEVENT
END:VCALENDAR
