BEGIN:VCALENDAR
PRODID:-//github.com/rianjs/ical.net//NONSGML ical.net 4.0//EN
VERSION:2.0
BEGIN:VEVENT
DESCRIPTION:Mehr Sicherheit für den Radverkehr durch StVO konforme Seitena
 bstände beim Überholen durch Kraftfahrzeuge\nhttps://touren-termine.adfc.
 de/radveranstaltung/117242-projektgruppe-openbikesensor
DTEND:20240610T180000Z
DTSTAMP:20260420T230903Z
DTSTART:20240610T163000Z
LOCATION:Koppel 34-36\, 20099 Hamburg
SEQUENCE:0
SUMMARY:Projektgruppe OpenBikeSensor
UID:50a7e2ff-da87-492f-bd2c-c3bc9a1c8544
URL:https://touren-termine.adfc.de/radveranstaltung/117242-projektgruppe-o
 penbikesensor
END:VEVENT
END:VCALENDAR
