BEGIN:VCALENDAR
PRODID:-//github.com/rianjs/ical.net//NONSGML ical.net 4.0//EN
VERSION:2.0
BEGIN:VEVENT
DESCRIPTION:Im Dezember fällt der Radlertreff aus. Wir sehen uns im Januar
  '25 wieder.\nhttps://touren-termine.adfc.de/radveranstaltung/141460-radl
 ertreff-entfallt-im-dezember
DTEND:20241227T180000Z
DTSTAMP:20260425T021309Z
DTSTART:20241227T180000Z
LOCATION:Glossner Bräustübl\, Schwesterhausgasse 9\, 92318 Neumarkt in der
  Oberpfalz
SEQUENCE:0
SUMMARY:Radlertreff entfällt im Dezember
UID:3f31a621-71fb-400d-adb0-aa9eb9edc055
URL:https://touren-termine.adfc.de/radveranstaltung/141460-radlertreff-ent
 fallt-im-dezember
END:VEVENT
END:VCALENDAR
