BEGIN:VCALENDAR
PRODID:-//github.com/rianjs/ical.net//NONSGML ical.net 4.0//EN
VERSION:2.0
BEGIN:VEVENT
DESCRIPTION:von Köln Rudolfplatz nach Orr/Esch/Auweiler\nhttps://touren-te
 rmine.adfc.de/radveranstaltung/190832--nach-orreschauweiler
DTEND:20260321T170000Z
DTSTAMP:20260423T151637Z
DTSTART:20260321T090000Z
LOCATION:Rudolfplatz 1\, 50674 Köln
SEQUENCE:0
SUMMARY:... nach Orr/Esch/Auweiler
UID:2a14d907-d046-445e-9888-3878d047696e
URL:https://touren-termine.adfc.de/radveranstaltung/190832--nach-orreschau
 weiler
END:VEVENT
END:VCALENDAR
