BEGIN:VCALENDAR
PRODID:-//github.com/rianjs/ical.net//NONSGML ical.net 4.0//EN
VERSION:2.0
BEGIN:VEVENT
DESCRIPTION:Wir fahren von Großräschen nach Senftenberg. Es geht an 3 Seen
  entlang.\nhttps://touren-termine.adfc.de/radveranstaltung/100916-neue-we
 ge-im-seenland-bei-senftenberg
DTEND:20230617T173000Z
DTSTAMP:20260421T233125Z
DTSTART:20230617T063000Z
LOCATION:Bhf. Ostkreuz\, Halle Ringbahn\, 10245 Berlin
SEQUENCE:0
SUMMARY:Neue Wege im Seenland bei Senftenberg
UID:e48a03b4-454a-4ad5-9cbd-99e7a4ab8567
URL:https://touren-termine.adfc.de/radveranstaltung/100916-neue-wege-im-se
 enland-bei-senftenberg
END:VEVENT
END:VCALENDAR
