BEGIN:VCALENDAR
PRODID:-//github.com/rianjs/ical.net//NONSGML ical.net 4.0//EN
VERSION:2.0
BEGIN:VEVENT
DESCRIPTION:Durch Feld und Flur erkunden wir mit dem Treckingrad das Allgä
 u. Brotzeit für Picknick mitbringen.\nhttps://touren-termine.adfc.de/radv
 eranstaltung/191423-usa-tour-unser-schones-allgau-nach-sudwesten
DTEND:20260530T150000Z
DTSTAMP:20260424T151743Z
DTSTART:20260530T080000Z
LOCATION:Adelharzer Weg\, 87435 Kempten (Allgäu)
SEQUENCE:0
SUMMARY:U.S.A. Tour (Unser Schönes Allgäu) nach Süd-Westen
UID:ff24ad0b-b619-426e-bc2a-58a9e3a991e0
URL:https://touren-termine.adfc.de/radveranstaltung/191423-usa-tour-unser-
 schones-allgau-nach-sudwesten
END:VEVENT
END:VCALENDAR
