BEGIN:VCALENDAR
PRODID:-//github.com/rianjs/ical.net//NONSGML ical.net 4.0//EN
VERSION:2.0
BEGIN:VEVENT
DESCRIPTION:Radlertreff ab Juli im Glossner Bräustübl!\nhttps://touren-ter
 mine.adfc.de/radveranstaltung/135872-radlertreff
DTEND:20240830T200000Z
DTSTAMP:20260425T021603Z
DTSTART:20240830T170000Z
LOCATION:Glossner Bräustübl\, Schwesterhausgasse 9\, 92318 Neumarkt in der
  Oberpfalz
SEQUENCE:0
SUMMARY:Radlertreff
UID:67990e4b-7f45-4b51-adf2-d192f304c3a4
URL:https://touren-termine.adfc.de/radveranstaltung/135872-radlertreff
END:VEVENT
END:VCALENDAR
